BEGIN:VCALENDAR
VERSION:2.0
METHOD:PUBLISH
PRODID:-//Virginia Tech//VT Calendar//EN
BEGIN:VEVENT
DTSTAMP:20171119T200000Z
UID:1503498453092@events.msu.edu
CATEGORIES:Performing Arts (Dance, Music, Theatre,  ...)
DTSTART:20171119T200000Z
DTEND:20171120T045900Z
SUMMARY:Hansel and Gretel by Engelbert Humperdinck
DESCRIPTION:
 Librettist: Langston Hughes\n
 Conductor: Steven 
 Mosteller\n
 Director: Melanie Helton\n
 \n
 A beautiful 
 version of the familiar fairy tale with 
 folk music-inspired themes, this production 
 is a wonderful first-time opera experience. 
 Remains an everlasting masterpiece. Bring the 
 family!\n\n
 Price: $20 for adults, $18 for senior citizens (age 60 
 and older), $10 for students with ID or anyone 
 under\n
 Sponsor: College of Music\n
 Sponsor's Homepage: http://www.music.msu.edu\n
 Contact phone: 517-353-5340\n
 Contact email: musicpr@msu.edu\n
 for more info visit the web at:\n 
 http://music.msu.edu/event-listing/hansel-and-gretel-by-engelbert-humperdinck\n
LOCATION:Fairchild Theatre, MSU Auditorium
END:VEVENT
END:VCALENDAR
