BEGIN:VCALENDAR
VERSION:2.0
METHOD:PUBLISH
PRODID:-//Virginia Tech//VT Calendar//EN
BEGIN:VEVENT
DTSTAMP:20180325T010000Z
UID:1503672616588@events.msu.edu
CATEGORIES:Performing Arts (Dance, Music, Theatre,  ...)
DTSTART:20180325T010000Z
DTEND:20180325T045900Z
SUMMARY:Street Scene by Kurt Weill
DESCRIPTION:
 Kurt Weill's Broadway-inspired operatic masterpiece, 
 filled with sparkling tunes and soaring 
 arias, depicts the daily life of a diverse 
 mid-century New York neighborhood with its triumphs 
 and tragedies. \n\n
 Price: $20 for adults, $18 for senior citizens (age 60 
 and older), $10 for students with ID or anyone 
 under\n
 Sponsor: College of Music\n
 Sponsor's Homepage: http://www.music.msu.edu\n
 Contact phone: 517-353-5340\n
 Contact email: musicpr@msu.edu\n
 for more info visit the web at:\n 
 http://music.msu.edu/event-listing/street-scene-by-kurt-weill\n
LOCATION:Fairchild Theatre, MSU Auditorium
END:VEVENT
END:VCALENDAR
