BEGIN:VCALENDAR
VERSION:2.0
METHOD:PUBLISH
PRODID:-//Virginia Tech//VT Calendar//EN
BEGIN:VEVENT
DTSTAMP:20171116T160000Z
UID:1504708638183@events.msu.edu
CATEGORIES:Conferences / Seminars / Lectures
DTSTART:20171116T160000Z
DTEND:20171117T045900Z
SUMMARY:Biochemistry & Molecular Biology Colloquium Series
DESCRIPTION:
 Greg Vanlerberghe\n
 University of Toronto\n
 \n
 "A 
 role for the alternative oxidase in photosynthesis-respiration 
 interactions and growth"\n
 \n
 Hosted by Thomas Sharkey\n\n
 Price: Free\n
 Sponsor: Biochemistry & Molecular Biology\n
 Sponsor's Homepage: https://bmb.natsci.msu.edu\n
 Contact name: Zachary F. Burton\n
 Contact phone: 517-353-0859\n
 Contact email: burton@msu.edu\n
 for more info visit the web at:\n 
 https://bmb.natsci.msu.edu/news-events/seminars/bmb-colloquium-series/\n
LOCATION:101 Biochemistry
END:VEVENT
END:VCALENDAR
