BEGIN:VCALENDAR
VERSION:2.0
METHOD:PUBLISH
PRODID:-//Virginia Tech//VT Calendar//EN
BEGIN:VEVENT
DTSTAMP:20171011T033000Z
UID:1505227881233@events.msu.edu
CATEGORIES:Public Programs
DTSTART:20171011T033000Z
DTEND:20171010T170000Z
SUMMARY:Institute for Public Policy and Social Reform Public Policy Forum: Reaching for the American Dream
DESCRIPTION:
 How can we improve socio-economic mobility in 
 Michigan? Socio-economic mobility refers to the 
 capacity of a person to move upward in social 
 class and economic viability. \n\n
 Price: free\n
 Sponsor: public\n
 Contact name: Ann Marie Schneider\n
 Contact phone: 517-353-1738\n
 Contact email: annmarie@msu.edu\n
 for more info visit the web at:\n 
 http://ippsr.msu.edu/events/ippsr-public-policy-forum-reaching-american-dream\n
LOCATION:Anderson House Office Building, Mackinac Room, 5th Floor
END:VEVENT
END:VCALENDAR
