BEGIN:VCALENDAR
VERSION:2.0
METHOD:PUBLISH
PRODID:-//Virginia Tech//VT Calendar//EN
BEGIN:VEVENT
DTSTAMP:20170914T190000Z
UID:1505230377616@events.msu.edu
CATEGORIES:Training
DTSTART:20170914T190000Z
DTEND:20170914T203000Z
SUMMARY:Funding Your Graduate Experience: Engineering and Sciences
DESCRIPTION:
 Review potential funding sources aligned with 
 your research interests from foundation partners, 
 United States government sources and international 
 organizations. You will also receive 
 an overview  of the proposal and budgeting 
 process, as well as have an opportunity to discuss 
 how to develop a management plan for research 
 projects and how to approach funding 
 prospects.  Bring your laptop.  Facilitators 
 : Jon Harrison and Mary Anne Walker.   If registration 
 is closed, please email Jon Harrison.\n\n
 Price: free\n
 Sponsor: Administration\n
 Sponsor's Homepage: http://www.lib.msu.edu\n
 Contact name: Holly Flynn\n
 Contact phone: 517-884-0901\n
 Contact email: flynnhol@msu.edu\n
LOCATION:MSU Main Library
END:VEVENT
END:VCALENDAR
