BEGIN:VCALENDAR
VERSION:2.0
METHOD:PUBLISH
PRODID:-//Virginia Tech//VT Calendar//EN
BEGIN:VEVENT
DTSTAMP:20170922T130000Z
UID:1505231136611@events.msu.edu
CATEGORIES:Training
DTSTART:20170922T130000Z
DTEND:20170923T030000Z
SUMMARY:Mendeley Workshop
DESCRIPTION:
 A basic introduction to the citation management 
 program Mendeley. In this workshop, participants 
 will learn how to:\n
 \n
        -Import references 
 from MSU's online catalog and article 
 databases\n
        -Format citations and bibliographies 
 in a Word document\n
        -Use Mendeley.com 
 to create groups and share references 
 with other users\n
 \n
 Visit this guide for 
 more information: http://libguides.lib.msu.edu/mendeley\n
 \n
 Previous 
 experience searching 
 article databases available from the MSU Libraries 
 is highly recommended.\n
 \n
 Please bring 
 your laptop to class. Before class, please go 
 to http://www.mendeley.com, create a profile 
 using your MSU email address, and download Mendeley 
 Desktop. If you run into difficulties, 
 that's okay - we'll help you in the class.\n\n
 Price: free\n
 Sponsor: Administration\n
 Sponsor's Homepage: http://www.lib.msu.edu\n
 Contact name: Holly Flynn\n
 Contact phone: 517-884-0901\n
 Contact email: flynnhol@msu.edu\n
LOCATION:MSU Main Library
END:VEVENT
END:VCALENDAR
