BEGIN:VCALENDAR
VERSION:2.0
METHOD:PUBLISH
PRODID:-//Virginia Tech//VT Calendar//EN
BEGIN:VEVENT
DTSTAMP:20171008T160000Z
UID:1505752887380@events.msu.edu
CATEGORIES:Exhibits (Museum, Gardens, ...)
DTSTART:20171008T160000Z
DTEND:20171008T210000Z
SUMMARY:Quantum Entanglement, (SCENE) Metrospace, Department of Art, Art History and Design
DESCRIPTION:
 An exhibition of nature, science, philosophy, 
 art history plus found objects and words by Robert 
 B. Park.\n
 \n
 Sept. 15- Nov. 4, 2017\n
 \n
 Robert 
 B. Park of Bath, Michigan received his 
 BFA in 1969 from Michigan State University, after 
 completing his degree he returned in the 
 early 70s to obtain a teaching certification. 
  Park's work has been extensively shown regionally 
 and nationally. His work is held in private 
 collections through the United States 
 and abroad. Throughout his career, his work has 
 been the recipient of awards from exhibitions 
 nationwide. This exhibition is the result 
 of decades of making.\n\n
 Price: free\n
 Sponsor: public\n
 Contact name: Jacquelynn Sullivan\n
 Contact phone: 5174323961\n
 Contact email: scene@msu.edu\n
 for more info visit the web at:\n 
 http://www.art.msu.edu\n
LOCATION:(SCENE) Metrospace, 110 Charles Street, East Lansing, MI 48823 (AAHD)
END:VEVENT
END:VCALENDAR
