BEGIN:VCALENDAR
VERSION:2.0
METHOD:PUBLISH
PRODID:-//Virginia Tech//VT Calendar//EN
BEGIN:VEVENT
DTSTAMP:20171023T170000Z
UID:1505762116750-0005@events.msu.edu
CATEGORIES:Student Events
DTSTART:20171023T170000Z
DTEND:20171023T190000Z
SUMMARY:Peer Mentor Office Hours
DESCRIPTION:
 An informal opportunity for 2021 students to chat 
 and ask questions to peer mentors about anything.\n\n
 Price:  free\n
 Sponsor: Peer Mentors\n
 Contact name: JP Kelly\n
 Contact phone: 3135983941\n
 Contact email: kellyj46@msu.edu\n
LOCATION:KRC in Fee Hall
END:VEVENT
END:VCALENDAR
