BEGIN:VCALENDAR
VERSION:2.0
METHOD:PUBLISH
PRODID:-//Virginia Tech//VT Calendar//EN
BEGIN:VEVENT
DTSTAMP:20170929T220000Z
UID:1505914984019@events.msu.edu
CATEGORIES:Athletics
DTSTART:20170929T220000Z
DTEND:20170930T010000Z
SUMMARY:ZUMBA ZONE
DESCRIPTION:
 Get your Zumba on with UAB and MSU Chaarg out 
 on the field west of Shaw Hall! Free T-Shirts 
 will be given away to the first 100 people, 
 and there will be four sessions so feel free 
 to join us throughout the night! KIND bars and 
 Honest Tea will be provided between each session 
 while supplies last.\n\n
 Price: FREE\n
 Sponsor: UAB\n
 Sponsor's Homepage: http://www.uabevents.com\n
 Contact name: University Activities Board\n
 Contact phone: 355-3354\n
 Contact email: uab@rhs.msu.edu\n
 for more info visit the web at:\n 
 http://uabevents.com/event/zumba-zone\n
LOCATION:Intersection of Shaw and Farm Ln
END:VEVENT
END:VCALENDAR
