BEGIN:VCALENDAR
VERSION:2.0
METHOD:PUBLISH
PRODID:-//Virginia Tech//VT Calendar//EN
BEGIN:VEVENT
DTSTAMP:20171026T160000Z
UID:1506364440660@events.msu.edu
CATEGORIES:Conferences / Seminars / Lectures
DTSTART:20171026T160000Z
DTEND:20171026T173000Z
SUMMARY:Eye on Africa with Berhanu Abegaz: Science, Technology and Globalization - Where is Africa?
DESCRIPTION:
 About the Speaker\n
 \n
 	Berhanu Abegaz is the former 
 executive director of the African Academy 
 of Sciences and current member of the African 
 Union High Level Panel on Emerging Technologies 
 (APET).\n\n
 Contact name: Ann Biersteker\n
 Contact phone: 5173531700\n
 Contact email: bierstek@msu.edu\n
LOCATION:Room 201, International Center
END:VEVENT
END:VCALENDAR
