BEGIN:VCALENDAR
VERSION:2.0
METHOD:PUBLISH
PRODID:-//Virginia Tech//VT Calendar//EN
BEGIN:VEVENT
DTSTAMP:20171011T200000Z
UID:1506612193795-0001@events.msu.edu
CATEGORIES:Student Events
DTSTART:20171011T200000Z
DTEND:20171012T034500Z
SUMMARY:Cosmic Bowling
DESCRIPTION:
 Spartan Lanes, MSU Union\n
 4 p.m. - midnight\n
 Bring 
 your friends, grab some bowling shoes and 
 have a great time. Free with MSU ID.\n
 \n\n
 Price: FREE with MSU ID\n
 Sponsor: UAB\n
 Sponsor's Homepage: http://www.uabevents.com\n
 for more info visit the web at:\n 
 http://uabevents.com/event/free-cosmic-bowling-4-pm-midnight\n
LOCATION:MSU Union
END:VEVENT
END:VCALENDAR
