BEGIN:VCALENDAR
VERSION:2.0
METHOD:PUBLISH
PRODID:-//Virginia Tech//VT Calendar//EN
BEGIN:VEVENT
DTSTAMP:20171025T220000Z
UID:1507831469126@events.msu.edu
CATEGORIES:Special Events
DTSTART:20171025T220000Z
DTEND:20171026T000000Z
SUMMARY:Exhibit Opening - 
DESCRIPTION:
 STUDIO/ ATELIER/ FOTOTALAY&#390;R&#390;LA\n
 Five 
 Photographers from Mali\n
 \n
 October 25, 2017 
 - October 2018\n
 Ground Floor Gallery\n
 \n
 The 
 West African country of Mali has long been home 
 to a creative community of photographers, 
 many based in urban studios. This exhibition 
 explores five exemplary practitioners of the 
 art of photography: Mamadou Cissé, Adama Kouyaté, 
 Abdourahmane Sakaly, Malick Sidibé and Tijani 
 Sitou-spanning the period from the 1940s 
 to the 1990s. Their works document the region's 
 transition from colonial French West Africa 
 to the independent nation state of Mali, 
 featuring portraits taken within and outside 
 the studio, as well as cultural events and transcultural 
 trends. \n
 \n
 Oct. 25 at 4:00 p.m.\n
 Roundtable 
 Panel Discussion\n
 "Photography and 
 the Politics of Cultural Appropriation: Perspectives 
 from Mali"  \n
 \n
 Guest Panelist:\n
 Youssouf 
 Sakaly, AMP Project Manager in Bamako, 
 son of Abdourahmane Sakaly\n
 Malick Sitou, Photographer 
 and son of Tijani Sitou\n
 MSU Museum 
 Entry Hall\n
 \n
 Opening exhibition reception 
 at 6:00 p.m.\n
 \n\n
 Price: free\n
 Sponsor: Administration\n
 Sponsor's Homepage: http://museum.msu.edu/\n
 Contact phone: 517-355-2370\n
 Contact email: pr@museum.msu.edu\n
 for more info visit the web at:\n 
 http://museum.msu.edu/\n
LOCATION:MSU Museum
END:VEVENT
END:VCALENDAR
