BEGIN:VCALENDAR
VERSION:2.0
METHOD:PUBLISH
PRODID:-//Virginia Tech//VT Calendar//EN
BEGIN:VEVENT
DTSTAMP:20171024T220000Z
UID:1508525932941@events.msu.edu
CATEGORIES:Student Events
DTSTART:20171024T220000Z
DTEND:20171024T230000Z
SUMMARY:Halloween Decor and More: Design for Vinyl and Laser Cutting
DESCRIPTION:
 Interested in creating laser cut objects or vinyl 
 decals?  We will help you get started with 
 simple to customize designs perfectly themed 
 for Halloween. This workshop covers the basics 
 of vector graphics using Adobe Illustrator 
 to create and modify designs to use with Hollander 
 MakeCentral's on the laser and vinyl 
 cutting resources. \n\n
 Price: free\n
 Sponsor: Administration\n
 Sponsor's Homepage: http://www.lib.msu.edu\n
 Contact name: Holly Flynn\n
 Contact phone: 517-884-0901\n
 Contact email: flynnhol@msu.edu\n
 for more info visit the web at:\n 
 http://bookings.lib.msu.edu/event/3485759\n
LOCATION:MSU Main Library MakeCentral (2-West)
END:VEVENT
END:VCALENDAR
