BEGIN:VCALENDAR
VERSION:2.0
METHOD:PUBLISH
PRODID:-//Virginia Tech//VT Calendar//EN
BEGIN:VEVENT
DTSTAMP:20171113T230000Z
UID:1508811796733@events.msu.edu
CATEGORIES:Movie / Film
DTSTART:20171113T230000Z
DTEND:20171114T010000Z
SUMMARY:"More Than a Word" Film Screening
DESCRIPTION:
 Will be held in the Castleboard Room. \n
 "More 
 Than A Word" analyzes the Washington football 
 team and their use of the derogatory term R*dskins. 
 Using interviews from both those in favor 
 of changing the name and those against, 
 "More Than A Word" presents a deeper analysis 
 of the many issues surrounding the Washington 
 team name. "More Than A Word" also examines 
 the history of Native American mascots and cultural 
 appropriation. \n
 There are five schools 
 in Michigan that still use R*dskins as a mascot 
 or nickname.\n
 Hosted by Native American 
 Law Students Association. \n\n
 Price: free\n
 Sponsor: public\n
 Contact name: Heath Lowry\n
 Contact email: lowryhea@msu.edu\n
 for more info visit the web at:\n 
 https://www.facebook.com/events/1157007877732308/?acontext=%7B%22action_history%22%3A%22[%7B%5C%22su\n
LOCATION:MSU College of Law
END:VEVENT
END:VCALENDAR
