BEGIN:VCALENDAR
VERSION:2.0
METHOD:PUBLISH
PRODID:-//Virginia Tech//VT Calendar//EN
BEGIN:VEVENT
DTSTAMP:20171107T000000Z
UID:1509634479347-0001@events.msu.edu
CATEGORIES:Student Events
DTSTART:20171107T000000Z
DTEND:20171107T010000Z
SUMMARY:University Activities Board Weekly meeting
DESCRIPTION:
 Come to the weekly UAB Meeting and join in on 
 the fun!  Hear committee reports and find out 
 how you can get involved in the University's 
 best programming group!\n\n
 Price: free\n
 Sponsor: University Activities Board (UAB)\n
 Sponsor's Homepage: http://www.uabevents.com\n
 Contact name: UAB\n
 Contact phone: 5-3354\n
 Contact email: uab@rhs.msu.edu\n
 for more info visit the web at:\n 
 http://www.uabevents.com\n
LOCATION:MSU Union, Room 50
END:VEVENT
END:VCALENDAR
