BEGIN:VCALENDAR
VERSION:2.0
METHOD:PUBLISH
PRODID:-//Virginia Tech//VT Calendar//EN
BEGIN:VEVENT
DTSTAMP:20171210T183000Z
UID:1512145290554@events.msu.edu
CATEGORIES:Student Events
DTSTART:20171210T183000Z
DTEND:20171210T200000Z
SUMMARY:Therapy Animals
DESCRIPTION:
 Take a study break and pet therapy dogs and cats!\n\n
 Price: free\n
 Sponsor: Administration\n
 Sponsor's Homepage: http://www.lib.msu.edu\n
 Contact name: Holly Flynn\n
 Contact phone: 517-884-0901\n
 Contact email: flynnhol@msu.edu\n
 for more info visit the web at:\n 
 https://bookings.lib.msu.edu/event/3753566\n
LOCATION:MSU Main Library, Green Room (4-West)
END:VEVENT
END:VCALENDAR
