BEGIN:VCALENDAR
VERSION:2.0
METHOD:PUBLISH
PRODID:-//Virginia Tech//VT Calendar//EN
BEGIN:VEVENT
DTSTAMP:20180404T050000Z
UID:1515618886531-0013@events.msu.edu
CATEGORIES:Academic
DTSTART;VALUE=DATE:20180404
DTEND;VALUE=DATE:20180405
SUMMARY:The 3M Interest Group
DESCRIPTION:
 The Metabolism, Membranes and Metalloenzymology, 
 the (3M) Interest Group, serves as a forum 
 for graduate students, postdocs and faculty 
 to obtain feedback on their 3M-related projects 
 and/or to highlight exciting recent publications 
 in this area. \n\n
 Price: free\n
 Sponsor: Biochemistry & Molecular Biology\n
 Sponsor's Homepage: http://naturalscience.msu.edu/\n
 Contact name: Eric L. Hegg \n
 Contact phone: 517-353-7120\n
 Contact email: erichegg@msu.edu\n
 for more info visit the web at:\n 
 https://bmb.natsci.msu.edu/research/seminars/the-3m-interest-group/\n
LOCATION:iCER Seminar room 1455-A Biomedical & Physical Sciences Building
END:VEVENT
END:VCALENDAR
