BEGIN:VCALENDAR
VERSION:2.0
METHOD:PUBLISH
PRODID:-//Virginia Tech//VT Calendar//EN
BEGIN:VEVENT
DTSTAMP:20180220T200000Z
UID:1516647032262@events.msu.edu
CATEGORIES:International Events (Study Abroad, ...)
DTSTART:20180220T200000Z
DTEND:20180220T220000Z
SUMMARY:Finding Funding for Research with African Partners & Faculty Networking
DESCRIPTION:
 The Office for International Research Collaboration 
 and the Alliance for African Partnership 
 will present information on funding opportunities 
 and trends for research in Africa and 
 with African partners, followed by an opportunity 
 for faculty to share their research interests 
 and network with collaborators from across 
 campus. \n\n
 Price: free\n
 Sponsor: public\n
 Contact name: Skye McDonald\n
 Contact phone: 517-432-9184\n
 Contact email: oirc@msu.edu\n
LOCATION:Kellogg Center, Centennial Room BC
END:VEVENT
END:VCALENDAR
