BEGIN:VCALENDAR
VERSION:2.0
METHOD:PUBLISH
PRODID:-//Virginia Tech//VT Calendar//EN
BEGIN:VEVENT
DTSTAMP:20180215T200000Z
UID:1517329583442@events.msu.edu
CATEGORIES:Public Programs
DTSTART:20180215T200000Z
DTEND:20180215T220000Z
SUMMARY:Global Engagement Speaker Series: George L Openjuru VC Gulu University Uganda
DESCRIPTION:
 Universities and Communities in Conflict Resolution 
 and Social Justice in Africa: The Case 
 of Gulu University in Northern Uganda. George 
 Openjuru Professor of Education and First Deputy 
 Vice Chancellor, Gulu University, Uganda.\n\n
 Sponsor: University Outreach and Engagement\n
 Sponsor's Homepage: http://gess.msu.edu/\n
 Contact name: Diane Doberneck\n
 Contact phone: 517-353-8977\n
 Contact email: gess@msu.edu\n
 for more info visit the web at:\n 
 http://gess.msu.edu/Speaker/GeorgeOpenjuru\n
LOCATION:Kellogg Hotel & Conference Center, 219 S. Harrison Road, East Lansing, MI 48824
END:VEVENT
END:VCALENDAR
