BEGIN:VCALENDAR
VERSION:2.0
METHOD:PUBLISH
PRODID:-//Virginia Tech//VT Calendar//EN
BEGIN:VEVENT
DTSTAMP:20180220T200000Z
UID:1518012393445@events.msu.edu
CATEGORIES:Academic
DTSTART:20180220T200000Z
DTEND:20180220T220000Z
SUMMARY:Year of Global Africa: Finding Funding for Research with African Partners
DESCRIPTION:
 The Office for International Research Collaboration 
 and the Alliance for African Partnership 
 will present information on funding opportunities 
 and trends for research in Africa and 
 with African partners, followed by an opportunity 
 for faculty to share their research interests 
 and network with collaborators from across 
 campus. All are welcome.\n\n
 Sponsor: Office for International Research Collaboration 
 and Alliance for African Partnership\n
 Sponsor's Homepage: http://aap.isp.msu.edu/276\n
 Contact name: Office for International Research Collaboration\n
 Contact phone: 517-884-0947\n
 Contact email: ORIC@msu.edu\n
 for more info visit the web at:\n 
 http://oirc.isp.msu.edu/\n
LOCATION:Kellogg Center, Centennial Room BC
END:VEVENT
END:VCALENDAR
