BEGIN:VCALENDAR
VERSION:2.0
METHOD:PUBLISH
PRODID:-//Virginia Tech//VT Calendar//EN
BEGIN:VEVENT
DTSTAMP:20180313T231500Z
UID:1518727050428@events.msu.edu
CATEGORIES:Student Events
DTSTART:20180313T231500Z
DTEND:20180314T001500Z
SUMMARY:Spartan Street Medicine Volunteer Training
DESCRIPTION:
  Price:  free\n
 Sponsor: Spartan Street Medicine\n
 Contact name: Marian Catalan\n
 Contact phone: 5868549068\n
 Contact email: catalanm@msu.edu\n
LOCATION:EL E105, DMC G029, Macomb UC3 209
END:VEVENT
END:VCALENDAR
