BEGIN:VCALENDAR
VERSION:2.0
METHOD:PUBLISH
PRODID:-//Virginia Tech//VT Calendar//EN
BEGIN:VEVENT
DTSTAMP:20180320T223000Z
UID:1519698788258@events.msu.edu
CATEGORIES:Student Events
DTSTART:20180320T223000Z
DTEND:20180320T233000Z
SUMMARY:American Physician Scientist Association- Student Research Panel
DESCRIPTION:
 APSA is hosting third year students that are actively 
 involved in research to share how they 
 are keeping it up while on clinical rotations.\n\n
 Price:  free\n
 Sponsor: student\n
 Contact name: Thu Duong\n
 Contact phone: 5173485257\n
 Contact email: duongth1@msu.edu\n
LOCATION:EL E4, DMC G028, Macomb UC3 208
END:VEVENT
END:VCALENDAR
