BEGIN:VCALENDAR
VERSION:2.0
METHOD:PUBLISH
PRODID:-//Virginia Tech//VT Calendar//EN
BEGIN:VEVENT
DTSTAMP:20180419T200000Z
UID:1519930727475@events.msu.edu
CATEGORIES:Special Events
DTSTART:20180419T200000Z
DTEND:20180419T220000Z
SUMMARY:Innovation Celebration
DESCRIPTION:
 This networking reception showcases innovative 
 technologies and startups developed in campus 
 labs, classrooms and beyond. We honor MSU researchers 
 and students who reported an invention, 
 licensed a technology or were awarded patents 
 during the academic year, and recognize 
 outstanding achievements in technology transfer 
 and sponsored research. \n\n
 Price: free\n
 Sponsor: public\n
 Contact name: Amber Shinn\n
 Contact phone: 517-884-0718\n
 Contact email: shinnamb@msu.edu\n
 for more info visit the web at:\n 
 https://www.eventbrite.com/e/msu-innovation-celebration-2018-tickets-42329431469\n
LOCATION:Hungington Club, 4th Floor, Spartan Stadium
END:VEVENT
END:VCALENDAR
