BEGIN:VCALENDAR
VERSION:2.0
METHOD:PUBLISH
PRODID:-//Virginia Tech//VT Calendar//EN
BEGIN:VEVENT
DTSTAMP:20180423T193000Z
UID:1522174525493@events.msu.edu
CATEGORIES:Student Events
DTSTART:20180423T193000Z
DTEND:20180423T210000Z
SUMMARY:Pediatric Interest Group: St. Vincent Event
DESCRIPTION:
 Earth Day and spring event with activities for 
 the children at St. Vincent's.\n\n
 Price:  free\n
 Contact name: Ben Heriford\n
 Contact phone: 517-927-4248\n
 Contact email: herifor2@msu.edu\n
LOCATION:St. Vincent Catholic Charities
END:VEVENT
END:VCALENDAR
