BEGIN:VCALENDAR
VERSION:2.0
METHOD:PUBLISH
PRODID:-//Virginia Tech//VT Calendar//EN
BEGIN:VEVENT
DTSTAMP:20180405T220000Z
UID:1522344216244@events.msu.edu
CATEGORIES:Training
DTSTART:20180405T220000Z
DTEND:20180405T230000Z
SUMMARY:Lesbian, Gay, Bi-Sexual, Transgender & Allies in Med Training Workshop
DESCRIPTION:
 Training conducted by PhD student at WSU geared 
 toward LGBTQ+ health education for future osteopathic 
 physicians.\n\n
 Price:  free\n
 Sponsor: Students\n
 Contact name: Amar Takrani\n
 Contact phone: 3137274610\n
 Contact email: takrania@msu.edu\n
LOCATION:DMC G029
END:VEVENT
END:VCALENDAR
