BEGIN:VCALENDAR
VERSION:2.0
METHOD:PUBLISH
PRODID:-//Virginia Tech//VT Calendar//EN
BEGIN:VEVENT
DTSTAMP:20180516T213000Z
UID:1525445849680@events.msu.edu
CATEGORIES:Special Events
DTSTART:20180516T213000Z
DTEND:20180516T233000Z
SUMMARY:Bicycle Ride of Silence
DESCRIPTION:
 Silent bicycle procession from MSU to the Capitol 
 to honor those cyclists who have been killed 
 or injured while cycling on public roadways. 
 Sign-in 5:15 to 6:15 p.m., Ride starts at 
 6:30 p.m..  Slow, silent ride with police escort 
 to MI Capitol and back.  Open to all ages 
 and skill levels, helmets are required.  Sponsored 
 by Tri-County Bicycle Association; supported 
 by MSU Bikes.\n\n
 Price: free\n
 Sponsor: public\n
 Contact name: Tim Potter\n
 Contact phone: (517)432-3414\n
 Contact email: pottert@msu.edu\n
 for more info visit the web at:\n 
 https://www.facebook.com/events/246617902546573/\n
LOCATION:Wells Hall Plaza
END:VEVENT
END:VCALENDAR
