BEGIN:VCALENDAR
VERSION:2.0
METHOD:PUBLISH
PRODID:-//Virginia Tech//VT Calendar//EN
BEGIN:VEVENT
DTSTAMP:20180703T210000Z
UID:1527045949003-0003@events.msu.edu
CATEGORIES:Student Events
DTSTART:20180703T210000Z
DTEND:20180703T220000Z
SUMMARY:Peru Global Outreach
DESCRIPTION:
 Meeting for all accepted participants for the 
 August 2018 Medical Mission to Peru.\n\n
 Price:  free\n
 Sponsor: student\n
 Contact name: Alyssa Wood\n
 Contact phone: 7347189247\n
 Contact email: woodaly1@msu.edu\n
LOCATION:EL E105 or EL C102 - The Patenge Room, DMC G028 and Macomb UC3 209
END:VEVENT
END:VCALENDAR
