BEGIN:VCALENDAR
VERSION:2.0
METHOD:PUBLISH
PRODID:-//Virginia Tech//VT Calendar//EN
BEGIN:VEVENT
DTSTAMP:20180620T130000Z
UID:1528208654059@events.msu.edu
CATEGORIES:Special Events
DTSTART:20180620T130000Z
DTEND:20180620T170000Z
SUMMARY:Malting Barley Field Day
DESCRIPTION:
 Host: MSU AgBioResearch\n
 Note: The Malting Barley 
 Field Day will offer attendees the chance 
 to hear about the latest malting barley research 
 trials conducted by Michigan State University 
 researchers, as well as recent trends and 
 issues in the field of malting barley.\n\n
 Price: free\n
 Sponsor: Administration\n
 Sponsor's Homepage: http://www.espp.msu.edu/events/calendar/index.php\n
 for more info visit the web at:\n 
 http://www.espp.msu.edu/events/calendar/index.php\n
LOCATION: W.K. Kellogg Biological Station, 3700 E. Gull Lake Drive, Hickory Corners, Mich. 49060 
END:VEVENT
END:VCALENDAR
