BEGIN:VCALENDAR
VERSION:2.0
METHOD:PUBLISH
PRODID:-//Virginia Tech//VT Calendar//EN
BEGIN:VEVENT
DTSTAMP:20180725T210000Z
UID:1528570591656@events.msu.edu
CATEGORIES:Academic
DTSTART:20180725T210000Z
DTEND:20180725T220000Z
SUMMARY:Student American Association of Osteopathy Palpation Review
DESCRIPTION:
 Palpation Review for class of 2022\n\n
 Price:  free\n
 Sponsor: Student American Association of Osteopathy\n
 Contact name: Devyn Cope\n
 Contact phone: 2489960201\n
 Contact email: copedevy@msu.edu\n
LOCATION:E106 OMM Lab Fee Hall 
END:VEVENT
END:VCALENDAR
