BEGIN:VCALENDAR
VERSION:2.0
METHOD:PUBLISH
PRODID:-//Virginia Tech//VT Calendar//EN
BEGIN:VEVENT
DTSTAMP:20180720T180000Z
UID:1528834248600@events.msu.edu
CATEGORIES:Student Events
DTSTART:20180720T180000Z
DTEND:20180721T035900Z
SUMMARY:Orthopedic Surgery Physical Medical & Rehabilitation Saw Bones Lab
DESCRIPTION:
 A representative for Dr. Carson will facilitate 
 a saw bones lab utilizing fake bones with simulated 
 fractures for placing plates and screws.\n\n
 Price:  free\n
 Sponsor: student\n
 Contact name: Lianne Strimpel \n
 Contact phone: (734) 770-7212\n
 Contact email: Strrimpe1@msu.edu\n
LOCATION:Macomb UC3 209
END:VEVENT
END:VCALENDAR
