BEGIN:VCALENDAR
VERSION:2.0
METHOD:PUBLISH
PRODID:-//Virginia Tech//VT Calendar//EN
BEGIN:VEVENT
DTSTAMP:20181002T230000Z
UID:1531500918812@events.msu.edu
CATEGORIES:Conferences / Seminars / Lectures
DTSTART:20181002T230000Z
DTEND:20181003T010000Z
SUMMARY:People's Law School: Immigration Law
DESCRIPTION:
 People's Law School is a program that helps educate 
 Michigan residents about their legal rights 
 and the law. People's Law School connects 
 citizens who want to learn more about the law 
 with local judges, attorneys, professors and 
 other legal experts. The seven-week program 
 begins September 11 and ends October 23. Classes 
 are held every Tuesday evening from 7-9 
 p.m. at the Hannah Community Center in East 
 Lansing. The cost is $25 for the seven-week series 
 or $7 for an individual class. All proceeds 
 go to the James Tuck Memorial Fund. Classes 
 include a lecture with a short break, followed 
 by a question and answer session. Each 
 participant receives their class materials on 
 the evening of the class. Presenter: Hillary 
 Scholten, Attorney at Michigan Immigrant Rights 
 Center.\n\n
 Price: $25 registration fee for seven-week session or 
 $7 per individual class.\n
 Sponsor: public\n
 Contact name: Terilynne Griffes\n
 Contact phone: 517-394-7500\n
 Contact email: tlgriffes@sinasdramis.com\n
 for more info visit the web at:\n 
 https://sinasdramis.com/community-involvement-michigan/peoples-law-school-lansing\n
LOCATION:East Lansing Hannah Community Center
END:VEVENT
END:VCALENDAR
