BEGIN:VCALENDAR
VERSION:2.0
METHOD:PUBLISH
PRODID:-//Virginia Tech//VT Calendar//EN
BEGIN:VEVENT
DTSTAMP:20180804T150000Z
UID:1531760338897@events.msu.edu
CATEGORIES:Public Programs
DTSTART:20180804T150000Z
DTEND:20180804T190000Z
SUMMARY:Family Day
DESCRIPTION:
 Join us for a day of making art and exploring 
 the museum as part of our monthly first Saturday 
 fun! Family Day is always free and open to 
 the public. Presented by Farm Bureau Insurance. 
 Galleries open at noon.\n\n
 Price: free\n
 Sponsor: public\n
 Contact name: MSU Broad\n
 Contact phone: (517) 884-4800\n
 Contact email: eebam@msu.edu\n
 for more info visit the web at:\n 
 http://www.broadmuseum.msu.edu\n
LOCATION:Eli and Edythe Broad Art Museum
END:VEVENT
END:VCALENDAR
