BEGIN:VCALENDAR
VERSION:2.0
METHOD:PUBLISH
PRODID:-//Virginia Tech//VT Calendar//EN
BEGIN:VEVENT
DTSTAMP:20180828T170000Z
UID:1531760986477@events.msu.edu
CATEGORIES:Student Events
DTSTART:20180828T170000Z
DTEND:20180828T200000Z
SUMMARY:MSU Broad Celebrates Welcome Week
DESCRIPTION:
 Welcome back, students! We've missed you. Wanna 
 hang out? Stop by the MSU Broad and the new 
 Art Lab to make a custom screen-printed tote 
 to carry around campus!\n\n
 Price: free\n
 Sponsor: public\n
 Contact name: MSU Broad\n
 Contact phone: (517) 884-4800\n
 Contact email: eebam@msu.edu\n
 for more info visit the web at:\n 
 http://www.broadmuseum.msu.edu\n
LOCATION:Eli and Edythe Broad Art Museum
END:VEVENT
END:VCALENDAR
