BEGIN:VCALENDAR
VERSION:2.0
METHOD:PUBLISH
PRODID:-//Virginia Tech//VT Calendar//EN
BEGIN:VEVENT
DTSTAMP:20180724T170000Z
UID:1531850710400@events.msu.edu
CATEGORIES:Special Events
DTSTART:20180724T170000Z
DTEND:20180724T193000Z
SUMMARY:Year of Global Africa: Mali Art Sale at MSU Museum
DESCRIPTION:
 Mali Chic is an art gallery and gift shop in the 
 heart of Bamako, Mali featuring textiles, 
 jewelry and sculpture by Malian artists. On Tuesday, 
 July 24 from 1 to 3:30 p.m. The owner 
 of Mali Chic, Fatoumata Bouare, will have a 
 selection of artwork for sale in the Entry Hall 
 of the MSU Museum. All sales are cash only.\n\n
 Price: varies\n
 Sponsor: MSU Museum\n
 Contact name: Chris Worland\n
 Contact email: chrworland@gmail.com\n
 for more info visit the web at:\n 
 https://www.museum.msu.edu/?event=malian-art-sale&event_date=2018-07-24\n
LOCATION:Entry Hall, MSU Museum at Michigan State University
END:VEVENT
END:VCALENDAR
