BEGIN:VCALENDAR
VERSION:2.0
METHOD:PUBLISH
PRODID:-//Virginia Tech//VT Calendar//EN
BEGIN:VEVENT
DTSTAMP:20180927T160000Z
UID:1532704257698@events.msu.edu
CATEGORIES:Conferences / Seminars / Lectures
DTSTART:20180927T160000Z
DTEND:20180927T173000Z
SUMMARY:Year of Global Africa: Eye on Africa - Somadoda Fikeni/ Divestment Anniversary
DESCRIPTION:
 Somadoda Fikeni is a leading political commentator 
 on contemporary political issues in South 
 Africa and is a contributing consultant to 
 the BBC. Fikeni, who earned an MSU Ph.D. in political 
 science, was involved in political protest 
 in South Africa before he arrived at MSU.\n
 \n
 	Fikeni 
 will share his perspectives on 
 current political issues in South Africa.\n\n
 Sponsor: African Studies Center\n
 Contact name: John Metzler\n
 Contact phone: 517-884-2155\n
 Contact email: metzler@msu.edu\n
LOCATION:Rm 201 International Center
END:VEVENT
END:VCALENDAR
