BEGIN:VCALENDAR
VERSION:2.0
METHOD:PUBLISH
PRODID:-//Virginia Tech//VT Calendar//EN
BEGIN:VEVENT
DTSTAMP:20180923T160000Z
UID:1533322696537-0046@events.msu.edu
CATEGORIES:Exhibits (Museum, Gardens, ...)
DTSTART:20180923T160000Z
DTEND:20180923T210000Z
SUMMARY:THEN NOW, MSU Union Art Gallery, Department of Art, Art History, and Design
DESCRIPTION:
 THEN NOW\n
 Paintings and sculptures by Dianne Wolter.\n
 \n
 August 
 3 - October 5, 2018\n
 \n\n
 Price: free\n
 Sponsor: public\n
 Contact name: Jacquelynn Sullivan\n
 Contact phone: 5174323961\n
 Contact email: sulli357@msu.edu\n
 for more info visit the web at:\n 
 http://www.art.msu.edu/galleries/union-art-gallery/exhibitions/currently-display/then-now/\n
LOCATION:MSU Union Art Gallery, 230 Abbott Road, East Lansing, MI 48824 (AAHD)
END:VEVENT
END:VCALENDAR
