BEGIN:VCALENDAR
VERSION:2.0
METHOD:PUBLISH
PRODID:-//Virginia Tech//VT Calendar//EN
BEGIN:VEVENT
DTSTAMP:20180810T190000Z
UID:1533328026065-0002@events.msu.edu
CATEGORIES:Exhibits (Museum, Gardens, ...)
DTSTART:20180810T190000Z
DTEND:20180810T230000Z
SUMMARY:Drawn to Print Art Exhibition, (SCENE) Metrospace, Department of Art, Art History, and Design
DESCRIPTION:
 Drawn to Print\n
 A national juried exhibition of 
 works on paper exploring drawing and printmaking.\n
 \n
 July 
 27- August 31, 2018\n
 \n
 DRAWN TO 
 PRINT is the result of a national call and 
 features works on paper that explore the ways 
 in which the diverse and inclusive mediums of 
 drawing and printmaking converge and are completely 
 separate.\n
 \n
 The path followed by a 
 brayer can begin with a pencil, a mouse, a cut, 
 or a maybe a stencil. There is no limit to 
 the ideas that can be explored through drawing 
 or printmaking. The presence of the artist 
 in these processes can be at the forefront or 
 separated by many layers of information. Surfaces 
 can be additive or subtractive. Lines 
 and forms can be ink, paint, graphite, thread, 
 a cut or a tear. The work in this exhibition 
 meets with the act of one material being pulled 
 across the surface of another.\n\n
 Price: free\n
 Sponsor: public\n
 Contact name: Jacquelynn Sullivan\n
 Contact phone: 5174323961\n
 Contact email: scene@msu.edu\n
 for more info visit the web at:\n 
 http://www.art.msu.edu/galleries/scene/exhibitions/currently-display/drawn-print/\n
LOCATION:(SCENE) Metrospace, 110 Charles Street, East Lansing, MI 48823 (AAHD)
END:VEVENT
END:VCALENDAR
