BEGIN:VCALENDAR
VERSION:2.0
METHOD:PUBLISH
PRODID:-//Virginia Tech//VT Calendar//EN
BEGIN:VEVENT
DTSTAMP:20181123T050000Z
UID:1533826280024-0002@events.msu.edu
CATEGORIES:Break / Holidays
DTSTART;VALUE=DATE:20181123
DTEND;VALUE=DATE:20181124
SUMMARY:University Closed (Thanksgiving Break)
DESCRIPTION:
 Classes are not in session. Offices closed.\n\n
 Price: free\n
 Sponsor: Administration\n
 Sponsor's Homepage: http://events.msu.edu/\n
END:VEVENT
END:VCALENDAR
