BEGIN:VCALENDAR
VERSION:2.0
METHOD:PUBLISH
PRODID:-//Virginia Tech//VT Calendar//EN
BEGIN:VEVENT
DTSTAMP:20181212T050000Z
UID:1533826375425-0003@events.msu.edu
CATEGORIES:Academic
DTSTART;VALUE=DATE:20181212
DTEND;VALUE=DATE:20181213
SUMMARY:Final Exams
DESCRIPTION:
  Sponsor: Administration\n
 Sponsor's Homepage: http://events.msu.edu/\n
END:VEVENT
END:VCALENDAR
