BEGIN:VCALENDAR
VERSION:2.0
METHOD:PUBLISH
PRODID:-//Virginia Tech//VT Calendar//EN
BEGIN:VEVENT
DTSTAMP:20181215T050000Z
UID:1533826434558-0002@events.msu.edu
CATEGORIES:Academic
DTSTART;VALUE=DATE:20181215
DTEND;VALUE=DATE:20181216
SUMMARY:Commencement
DESCRIPTION:
  Sponsor: Administration\n
 Sponsor's Homepage: http://events.msu.edu/\n
END:VEVENT
END:VCALENDAR
