BEGIN:VCALENDAR
VERSION:2.0
METHOD:PUBLISH
PRODID:-//Virginia Tech//VT Calendar//EN
BEGIN:VEVENT
DTSTAMP:20181106T211000Z
UID:1536073735740@events.msu.edu
CATEGORIES:Conferences / Seminars / Lectures
DTSTART:20181106T211000Z
DTEND:20181107T045900Z
SUMMARY:Seminar by Dr. John Rawls of the Duke University Medical Center
DESCRIPTION:
 This seminar is hosted by the Microbiology and 
 Molecular Genetics Postdoc Association.\n\n
 Price: free\n
 Sponsor: public\n
 Contact name: Roseann Bills\n
 Contact email: marshro3@msu.edu\n
 for more info visit the web at:\n 
 https://mmg.natsci.msu.edu/events-seminars/mmg-seminars-fall-2018-spring-2019/\n
LOCATION:1415 Biomedical Physical Science
END:VEVENT
END:VCALENDAR
