BEGIN:VCALENDAR
VERSION:2.0
METHOD:PUBLISH
PRODID:-//Virginia Tech//VT Calendar//EN
BEGIN:VEVENT
DTSTAMP:20181102T163000Z
UID:1536164486715-0010@events.msu.edu
CATEGORIES:Conferences / Seminars / Lectures
DTSTART:20181102T163000Z
DTEND:20181103T035900Z
SUMMARY:EES Distinguished Speaker Series
DESCRIPTION:
 9/7/18	Jenn Macalady	"Light-harvesting bacteria 
 stabilized low-oxygen conditions in the Proterozoic"\n
 \n
 9/14/18	Cin-Ty 
 Lee	"The Making of 
 a Continent"\n
 \n
 9/21/18	Jason Price	"Predicting 
 radioactive accessory mineral dissolution 
 during chemical weathering: The radiation dose 
 at the solubility threshold for epidote-group 
 detrital grains from the Yangtze River delta, 
 China"\n
 \n
 9/28/18	Geoff Abers	"The subduction 
 plate interface and mantle wedge from 
 thrust zone to subarc"\n
 \n
 10/5/18	Shijie Zhong	"The 
 Cause of Slab Stagnation in Mantle Transition 
 Zone and Its Effects on the Dynamics 
 of the Mantle"\n
 \n
 10/12/18	Lisa Whitenack	"400 
 Million Years of Shark Teeth: An Evolutionary 
 Puzzle"\n
 \n
 10/19/18	Bruce Kjarsgaard	"The 
 Kimberlite-hosted Diamond Fields of Canada"\n
 \n
 10/26/18	Wendy Panero	"The Earth as a Model 
 for Rocky Exoplanets: Describing Earth 2.0"\n
 \n
 11/2/18	Zhongwen 
 Zhan	"A Dual-Mechanism Hypothesis 
 for Deep Earthquakes"\n
 \n
 11/9/18	David 
 Boutt	Birdsall-Dreiss Lecture\n
 "Groundwater 
 as a Buffer to Climatic Change: Dynamic Subsurface 
 Storage of Glaciated Landscapes"\n
 \n
 11/16/18	Joe 
 Levy	"There Will Be Mud: Rapid Landscape 
 Change in Antarctica"\n\n
 Price: free\n
 Sponsor: Administration\n
 Sponsor's Homepage: https://ees.natsci.msu.edu/events/ees-distinguished-speaker-series-fall-2018/\n
 for more info visit the web at:\n 
 https://ees.natsci.msu.edu/events/ees-distinguished-speaker-series-fall-2018/\n
LOCATION:Room 204 Natural Science Building
END:VEVENT
END:VCALENDAR
