BEGIN:VCALENDAR
VERSION:2.0
METHOD:PUBLISH
PRODID:-//Virginia Tech//VT Calendar//EN
BEGIN:VEVENT
DTSTAMP:20181115T160000Z
UID:1536168512778-0012@events.msu.edu
CATEGORIES:Conferences / Seminars / Lectures
DTSTART:20181115T160000Z
DTEND:20181116T045900Z
SUMMARY:Biochemistry & Molecular Biology Colloquium Series
DESCRIPTION:
 SEPTEMBER 6	Jianrong Wang, Michigan State University, 
 CMSE	Genomics/Proteomics,	Amy Ralston\n
 \n
 SEPTEMBER 
 13	Tzumin Lee, Janelia Research 
 Campus of HHMI	Neurodevelopment and Imaging,	David 
 Arnosti\n
 \n
 SEPTEMBER 20	Jeffrey Peng, 
 University of Notre Dame	Protein and Ligand Dynamics/Biomolecular 
 NMR,	Charles Hoogstraten\n
 \n
 SEPTEMBER 
 27	Kristin Parent, Michigan State 
 University, BMB	Tenure Talk,	Erich Grotewold\n
 \n
 OCTOBER 
 4	Daniel Ducat, Michigan State 
 University	Tenure Talk,	Erich Grotewold\n
 \n
 OCTOBER 
 11	TBD	TBD	TBD\n
 \n
 OCTOBER 18	Dorothea Tholl, 
 Virginia Tech	Tepenoid Biosynthesis and 
 Function,	Bjoern Hamberger\n
 \n
 OCTOBER 25	Niall 
 Mangan, Northwestern University	Biofuel/Bacterial 
 Compartments,	Michaela TerAvest\n
 \n
 NOVEMBER 
 1	Jian Hu, Michigan State University	Tenure 
 Talk,	Erich Grotewold\n
 \n
 NOVEMBER 8	Vanessa 
 Phelan, University of Colorado, Denver	Mass 
 Spectrometry of Microbe Interactions,\n
 	Rob 
 Quinn\n
 NOVEMBER 15	Zhihong Wang, University 
 of the Sciences, Philadelphia	RAF Kinase Regulation,	Eric 
 Hegg\n
 \n
 NOVEMBER 29	Greg Voth, 
 University of Chicago\n
 	SWEELEY LECTURE: Multi-scale 
 Modeling,	Alex Dickson\n
 DECEMBER 6	Rachelle 
 Gaudet, Harvard	Membranes, transporters, 
 channels,	Xiangshu Jin\n\n
 Price: Free\n
 Sponsor: Biochemistry & Molecular Biology\n
 Sponsor's Homepage: https://bmb.natsci.msu.edu\n
 Contact name: Zachary F. Burton\n
 Contact phone: 517-353-0859\n
 Contact email: burton@msu.edu\n
 for more info visit the web at:\n 
 https://bmb.natsci.msu.edu/research/seminars/bmb-colloquium-series/\n
LOCATION:101 Biochemistry
END:VEVENT
END:VCALENDAR
