BEGIN:VCALENDAR
VERSION:2.0
METHOD:PUBLISH
PRODID:-//Virginia Tech//VT Calendar//EN
BEGIN:VEVENT
DTSTAMP:20180910T230000Z
UID:1536263230556@events.msu.edu
CATEGORIES:Conferences / Seminars / Lectures
DTSTART:20180910T230000Z
DTEND:20180911T010000Z
SUMMARY:Astronaut Michael Foale visits MSU
DESCRIPTION:
 The College of Engineering is hosting Astronaut 
 Michael Foale on Monday, Sept. 10 from 7 to 
 9 p.m.\n
 \n
 Free and open to the public.\n
 \n
 Raffle 
 giveaway of LEGO NASA Apollo Saturn V rocket 
 set.\n
 \n
 Foale was recently inducted into 
 the Astronaut Hall of Fame after having conducted 
 six missions aboard the Space Shuttle, 
 Soyuz, MIR and ISS for a total time of 374 days 
 in space and 23 hours of spacewalk time.\n\n
 Price: free\n
 Sponsor: Administration\n
 Sponsor's Homepage: http://events.msu.edu/\n
 Contact name: Patton Allison\n
 Contact email: alliso63@egr.msu.edu\n
LOCATION:Room 1281, Anthony Hall
END:VEVENT
END:VCALENDAR
