BEGIN:VCALENDAR
VERSION:2.0
METHOD:PUBLISH
PRODID:-//Virginia Tech//VT Calendar//EN
BEGIN:VEVENT
DTSTAMP:20181108T140000Z
UID:1536267162159@events.msu.edu
CATEGORIES:Special Events
DTSTART:20181108T140000Z
DTEND:20181108T180000Z
SUMMARY:Digital Scholarship Co-Works
DESCRIPTION:
 Digital Scholarship Co-Works are opportunities 
 for meeting and working alongside colleagues 
 and fellow practitioners of digital scholarship. 
 Please consider joining us!\n\n
 Price: free\n
 Sponsor: Administration\n
 Sponsor's Homepage: http://www.lib.msu.edu\n
LOCATION:Main Library, Digital Scholarship Lab Flex Space, 2 West
END:VEVENT
END:VCALENDAR
