BEGIN:VCALENDAR
VERSION:2.0
METHOD:PUBLISH
PRODID:-//Virginia Tech//VT Calendar//EN
BEGIN:VEVENT
DTSTAMP:20181026T220000Z
UID:1537899962653@events.msu.edu
CATEGORIES:Exhibits (Museum, Gardens, ...)
DTSTART:20181026T220000Z
DTEND:20181027T000000Z
SUMMARY:MATTER(S) matter(s): Bridging Research in the Arts and Sciences Exhibition Opening
DESCRIPTION:
 Celebrate the opening of this exhibition, which 
 concludes the three-year BRIDGE Artist-in-Residence 
 Program at MSU! Spanning the second 
 level of the MSU Broad, this exhibition highlights 
 the collaboration of national and international 
 artists with MSU faculty and students. 
 Many of the participating artists will be 
 on hand for the opening, offering visitors the 
 opportunity to engage with them and their work 
 directly.\n
 \n
 MATTER(S) matter(s): Bridging 
 Research in the Arts and Sciences is co-curated 
 by Steven L. Bridges, associate curator, 
 and Jens Hauser, guest curator and MSU Distinguished 
 Affiliated Faculty. Support for this 
 exhibition is provided by the MSU College of 
 Arts and Letters, MSU Bridge Artist-in-Residency 
 Program, Goethe-Institute Chicago and the 
 Eli and Edythe Broad endowed exhibitions fund. 
 On view Oct. 27, 2018 - Mar. 3, 2019.\n
 \n\n
 Price: free\n
 Sponsor: public\n
 Contact name: MSU Broad\n
 Contact phone: (517) 884-4800\n
 Contact email: eebam@msu.edu\n
 for more info visit the web at:\n 
 http://www.broadmuseum.msu.edu\n
LOCATION:Eli and Edythe Broad Art Museum
END:VEVENT
END:VCALENDAR
