BEGIN:VCALENDAR
VERSION:2.0
METHOD:PUBLISH
PRODID:-//Virginia Tech//VT Calendar//EN
BEGIN:VEVENT
DTSTAMP:20181212T050000Z
UID:1543796268859-0011@events.msu.edu
CATEGORIES:Student Events
DTSTART;VALUE=DATE:20181212
DTEND;VALUE=DATE:20181213
SUMMARY:Children's Hospital of Michigan Snow Pile Gift Drive
DESCRIPTION:
 Please join the Class of 2022 in donating new, 
 unwrapped gifts for children at the Children's 
 Hospital of Michigan. Toys, games, books, 
 stuffed animals, etc. are welcome. \n\n
 Price:  free\n
 Sponsor: MSU College of Osteopathic Medicine Class of 2022\n
 Contact name: Rebecca Pavlock\n
 Contact email: pavlockr@msu.edu\n
 for more info visit the web at:\n 
 https://www.childrensdmc.org/our-services/all-specialties/chm/child-life-services/snowpile\n
LOCATION:DMC - across from 1st Year Classroom, EL Student Lounge & outside E Fee Elevators, MUC Admin Office
END:VEVENT
END:VCALENDAR
