BEGIN:VCALENDAR
VERSION:2.0
METHOD:PUBLISH
PRODID:-//Virginia Tech//VT Calendar//EN
BEGIN:VEVENT
DTSTAMP:20190405T180000Z
UID:1544039562086@events.msu.edu
CATEGORIES:Special Events
DTSTART:20190405T180000Z
DTEND:20190405T200000Z
SUMMARY:Resource Center for Persons with Disabilities Annual Awards and Appreciation Reception
DESCRIPTION:
 Join Team RCPD as we award scholarships, recognize 
 community achievements and generally gather 
 our community in celebration of ability and 
 opportunity.\n\n
 Price: free\n
 Sponsor: Resource Center for Persons with Disabilities\n
 Sponsor's Homepage: http://events.msu.edu/rcpd/\n
 Contact name: Beverly Stehlik\n
 Contact phone: 517-884-1903\n
 Contact email: bhs7@msu.edu\n
 for more info visit the web at:\n 
 http://https://www.rcpd.msu.edu/programs/awards-reception\n
LOCATION:Kellogg Center Big Ten A Room
END:VEVENT
END:VCALENDAR
