BEGIN:VCALENDAR
VERSION:2.0
METHOD:PUBLISH
PRODID:-//Virginia Tech//VT Calendar//EN
BEGIN:VEVENT
DTSTAMP:20190130T163000Z
UID:1545930008122@events.msu.edu
CATEGORIES:Special Events
DTSTART:20190130T163000Z
DTEND:20190130T183000Z
SUMMARY:MakeCentral Quilting Bee!
DESCRIPTION:
 Stop by MakeCentral and sew a seam! No experience 
 necessary! Contribute to the quilts made 
 by the MSU community to be donated to the Teal 
 Quilt Project and the American Librarian Association. 
 \n\n
 Price: free\n
 Sponsor: Administration\n
 Sponsor's Homepage: http://www.lib.msu.edu\n
 Contact name: Holly Flynn\n
 Contact email: flynnhol@lib.msu.edu\n
LOCATION:Main Library, MakeCentral
END:VEVENT
END:VCALENDAR
