BEGIN:VCALENDAR
VERSION:2.0
METHOD:PUBLISH
PRODID:-//Virginia Tech//VT Calendar//EN
BEGIN:VEVENT
DTSTAMP:20190425T190000Z
UID:1545942148734-0012@events.msu.edu
CATEGORIES:Special Events
DTSTART:20190425T190000Z
DTEND:20190425T203000Z
SUMMARY:Therapy Dog Thursdays
DESCRIPTION:
 Has your week been "ruff"?  Come to the library 
 and pet a therapy dog!\n\n
 Price: free\n
 Sponsor: Administration\n
 Sponsor's Homepage: http://www.lib.msu.edu\n
 Contact name: Holly Flynn\n
 Contact email: flynnhol@lib.msu.edu\n
LOCATION:Main Library, South Lobby
END:VEVENT
END:VCALENDAR
